BEGIN:VCALENDAR
VERSION:2.0
PRODID:-//ChamberMaster//Event Calendar 2.0//EN
METHOD:PUBLISH
X-PUBLISHED-TTL:P1H
REFRESH-INTERVAL:P1H
CALSCALE:GREGORIAN
BEGIN:VTIMEZONE
TZID:America/Los_Angeles
BEGIN:DAYLIGHT
RRULE:FREQ=YEARLY;BYMONTH=3;BYDAY=2SU
DTSTART:20070101T000000
TZOFFSETFROM:-0800
TZOFFSETTO:-0700
TZNAME:Pacific Daylight Time
END:DAYLIGHT
BEGIN:STANDARD
RRULE:FREQ=YEARLY;BYMONTH=11;BYDAY=1SU
DTSTART:20070101T000000
TZOFFSETFROM:-0700
TZOFFSETTO:-0800
TZNAME:Pacific Standard Time
END:STANDARD
END:VTIMEZONE
BEGIN:VEVENT
DTSTART;TZID=America/Los_Angeles:20260630T170000
DTEND;TZID=America/Los_Angeles:20260630T190000
X-MICROSOFT-CDO-ALLDAYEVENT:FALSE
SUMMARY:End of the Year Last Tuesday at Venue 13
DESCRIPTION:EPOP is a program that offers emerging professionals a place to prosper and develop their careers\, build a peer network\, and gain exposure to business leaders. EPOP offers programming focused on educational and professional development\, as well as civic engagement and networking opportunities.This month\, join us for our End of Year Last Tuesday Showcase at the Evergreen PDX!Join us for our End of the Year Nonprofit Showcase. At this special Last Tuesday\, you will have the opportunity to speak and engage with the featured nonprofits from the 2024/2025 year. We will have a fun "passport style" way for you to visit each non profit\, and be entered to win fun prizes for completed passports!We will also be announcing the next round of nonprofit partners for the 2025/2026 year.
X-ALT-DESC;FMTTYPE=text/html:<!DOCTYPE html><html><head><title></title></head><body aria-disabled="false"><p><span style="font-family: Arial\, Helvetica\, sans-serif\; font-size: 18px\;">EPOP is a program that offers emerging professionals a place to prosper and develop their careers\, build a peer network\, and gain exposure to business leaders. EPOP offers programming focused on educational and professional development\, as well as civic engagement and networking opportunities.</span></p><p><span style="font-size: 18px\;"><span style="font-family: Arial\,Helvetica\,sans-serif\;">This month\, join us for our End of Year Last Tuesday Showcase at the Evergreen PDX!</span></span></p><p><span style="font-family: Arial\, Helvetica\, sans-serif\; font-size: 18px\;">Join us for our End of the Year Nonprofit Showcase. At this special Last Tuesday\, you will have the opportunity to speak and engage with the featured nonprofits from the 2024/2025 year.&nbsp\;</span></p><p><span style="font-family: Arial\, Helvetica\, sans-serif\; font-size: 18px\;">We will have a fun &quot\;passport style&quot\; way for you to visit each non profit\, and be entered to win fun prizes for completed passports!</span></p><p><span style="font-family: Arial\, Helvetica\, sans-serif\; font-size: 18px\;">We will also be announcing the next round of nonprofit partners for the 2025/2026 year.</span></p><p><br></p></body></html>
LOCATION:1355 NW Everett Portland OR 97209
UID:e.2009.1439246
SEQUENCE:3
DTSTAMP:20260425T225442Z
URL:https://community.portlandmetrochamber.com/events/Details/end-of-the-year-last-tuesday-at-venue-13-1703612?sourceTypeId=Hub
END:VEVENT
END:VCALENDAR
